BEGIN:VCALENDAR
VERSION:2.0
PRODID:-//NurEinShop//EventExport//DE
BEGIN:VEVENT
UID:7aadadd77fb429871b814920
DTSTAMP:20260425T145506Z
DTSTART:20260522T190000
DTEND:20260522T235900
SUMMARY:1. Stammtisch der Feuerwehrfrauen des NOK
DESCRIPTION:<p>Das Fachgebiet Frauen des Kreisfeuerwehrverbandes Neckar-Odenwald-Kreis l&auml\;dt euch&nbsp\;herzlich zu einem gemeinsamen und ersten Stammtisch ein. Der Abend soll Raum f&uuml\;r Austausch\, Vernetzung und ein gem&uuml\;tliches Beisammensein bieten.<br />F&uuml\;r Essen und Getr&auml\;nke ist gesorgt. Hierf&uuml\;r wird ein Unkostenbeitrag in H&ouml\;he von 15 &euro\; pro Person erhoben.<br />Anmeldungen bitte bis sp&auml\;testens 10. Mai 2026 per E-Mail an: frauen@feuerwehr-nok.de</p>
LOCATION:
END:VEVENT
END:VCALENDAR